BEGIN:VCALENDAR
PRODID:-//Microsoft Corporation//Outlook 14.0 MIMEDIR//EN
VERSION:2.0
METHOD:PUBLISH
BEGIN:VEVENT
UID:9d7d36ce3d168231a2b2eccf1511620awww.fhosq.org
DTSTAMP:20260419T135331Z
DTSTART:2022-11-20T14:00:0000Z
DTEND:2022-11-20T00:00:0000Z
SUMMARY:La Sinfonia et l’intégrale des concertos pour piano de Beethoven
LOCATION:Théâtre Hector-Charland
DESCRIPTION:La Sinfonia et l’intégrale des concertos pour piano de Beethoven
END:VEVENT
END:VCALENDAR