BEGIN:VCALENDAR
PRODID:-//Microsoft Corporation//Outlook 14.0 MIMEDIR//EN
VERSION:2.0
METHOD:PUBLISH
BEGIN:VEVENT
UID:537d6897674ee2c52ebca288d61ed222www.fhosq.org
DTSTAMP:20260419T135330Z
DTSTART:2022-11-20T19:00:0000Z
DTEND:2022-11-20T00:00:0000Z
SUMMARY:La Sinfonia et l’intégrale des concertos pour piano de Beethoven
LOCATION:Théâtre Hector-Charland
DESCRIPTION:La Sinfonia et l’intégrale des concertos pour piano de Beethoven
END:VEVENT
END:VCALENDAR