BEGIN:VCALENDAR
PRODID:-//Microsoft Corporation//Outlook 14.0 MIMEDIR//EN
VERSION:2.0
METHOD:PUBLISH
BEGIN:VEVENT
UID:484d98fddd96b905939cf4e0169c2787www.fhosq.org
DTSTAMP:20260419T135330Z
DTSTART:2022-05-01T19:00:0000Z
DTEND:2022-05-01T00:00:0000Z
SUMMARY:Concert Série pop de la Sinfonia de Lanaudière
LOCATION:Théâtre Hector-Charland
DESCRIPTION:Concert "Les grandes chansons américaines" sous la direction de Stéphane Laforest. Mettant en vedette Kim Richardson et Marc Hervieux.
END:VEVENT
END:VCALENDAR