BEGIN:VCALENDAR
PRODID:-//Microsoft Corporation//Outlook 14.0 MIMEDIR//EN
VERSION:2.0
METHOD:PUBLISH
BEGIN:VEVENT
UID:70ed72df3ecb641b6d0ca7d0592664acwww.fhosq.org
DTSTAMP:20260423T200714Z
DTSTART:2026-05-30T18:30:0000Z
DTEND:2026-05-30T21:00:0000Z
SUMMARY:Harmonie Montmorency - De Broadway à Hollywood
LOCATION:l’église de Sainte-Gertrude (775, avenue de l’Éducation)
DESCRIPTION:Ce concert rend hommage aux plus grands succès qui ont illuminé les scènes de Broadway et qui ont aussi brillé sur les écrans d’Hollywood.
END:VEVENT
END:VCALENDAR